BEGIN:VCALENDAR
VERSION:2.0
PRODID:ShowClix//ShowClix//EN
BEGIN:VTIMEZONE
TZID:Australia/South
BEGIN:STANDARD
DTSTART:20180331T163000
TZOFFSETFROM:+1030
TZOFFSETTO:+0930
TZNAME:ACST
END:STANDARD
BEGIN:DAYLIGHT
DTSTART:20181006T163000
TZOFFSETFROM:+0930
TZOFFSETTO:+1030
TZNAME:ACDT
END:DAYLIGHT
END:VTIMEZONE
BEGIN:VEVENT
DTSTART;TZID=Australia/South:20180310T183000
SUMMARY:Strength 2018 - Riot City Wrestling
DESCRIPTION:Show details available at https://events.ticketbooth.com.au/event/RCW-Str2018
LOCATION:Latvian Hall
GEO:-34.950000;138.583330
END:VEVENT
END:VCALENDAR
