BEGIN:VCALENDAR
VERSION:2.0
PRODID:ShowClix//ShowClix//EN
BEGIN:VTIMEZONE
TZID:Australia/West
END:VTIMEZONE
BEGIN:VEVENT
DTSTART;TZID=Australia/West:20260423T160000
DTEND;TZID=Australia/West:20260702T170000
SUMMARY:Dice Adventure Club - Term two bookings
DESCRIPTION:Show details available at https://events.ticketbooth.com.au/event/dice-adventure-club
LOCATION:Whitford Public Library
GEO:-31.798268;115.748738
END:VEVENT
END:VCALENDAR
