BEGIN:VCALENDAR
VERSION:2.0
PRODID:ShowClix//ShowClix//EN
BEGIN:VTIMEZONE
TZID:Australia/NSW
BEGIN:DAYLIGHT
DTSTART:20201003T160000
TZOFFSETFROM:+1000
TZOFFSETTO:+1100
TZNAME:AEDT
END:DAYLIGHT
BEGIN:STANDARD
DTSTART:20210403T160000
TZOFFSETFROM:+1100
TZOFFSETTO:+1000
TZNAME:AEST
END:STANDARD
END:VTIMEZONE
BEGIN:VEVENT
DTSTART;TZID=Australia/NSW:20200426T113000
DTEND;TZID=Australia/NSW:20200426T154500
SUMMARY:Dirty Deeds AC/DC Show &ndash; Sydney Harbour Cruise 260420
DESCRIPTION:Show details available at https://events.ticketbooth.com.au/event/dirty-deeds-acdc-show-harbour-cruise-260420
LOCATION:Wharf 8 King Street Wharf
GEO:-33.868470;151.200340
END:VEVENT
END:VCALENDAR
