BEGIN:VCALENDAR
VERSION:2.0
PRODID:ShowClix//ShowClix//EN
BEGIN:VTIMEZONE
TZID:Australia/Queensland
END:VTIMEZONE
BEGIN:VEVENT
DTSTART;TZID=Australia/Queensland:20210514T120000
DTEND;TZID=Australia/Queensland:20210517T180000
SUMMARY:Earth Frequency Festival 2021 - Deluxe Camping
DESCRIPTION:Show details available at https://events.ticketbooth.com.au/event/earth-frequency-festival-2021-deluxe-camping
LOCATION:Ivory's Rock Conventions and Events
GEO:-27.794053;152.797431
END:VEVENT
END:VCALENDAR
