BEGIN:VCALENDAR
VERSION:2.0
PRODID:ShowClix//ShowClix//EN
BEGIN:VTIMEZONE
TZID:Australia/West
END:VTIMEZONE
BEGIN:VEVENT
DTSTART;TZID=Australia/West:20180324T190000
DTEND;TZID=Australia/West:20180324T220000
SUMMARY:TOP SHELF NIGHT
DESCRIPTION:Show details available at https://events.ticketbooth.com.au/event/magicmikenight-march24-2018
LOCATION:Metropolis Fremantle
GEO:-32.058822;115.750974
END:VEVENT
END:VCALENDAR
