BEGIN:VCALENDAR
VERSION:2.0
PRODID:ShowClix//ShowClix//EN
BEGIN:VTIMEZONE
TZID:Australia/North
END:VTIMEZONE
BEGIN:VEVENT
DTSTART;TZID=Australia/North:20180323T190000
SUMMARY:Marcel Lucont's Whine List Darwin 23rd March 2018
DESCRIPTION:Show details available at https://events.ticketbooth.com.au/event/marcel-luconts-whine-list-darwin-23rd-march-2018
LOCATION:The Venue @ Fannie Bay
GEO:51.466670;5.533330
END:VEVENT
END:VCALENDAR
