BEGIN:VCALENDAR
VERSION:2.0
PRODID:ShowClix//ShowClix//EN
BEGIN:VTIMEZONE
TZID:Australia/Victoria
BEGIN:STANDARD
DTSTART:20200404T160000
TZOFFSETFROM:+1100
TZOFFSETTO:+1000
TZNAME:AEST
END:STANDARD
BEGIN:DAYLIGHT
DTSTART:20201003T160000
TZOFFSETFROM:+1000
TZOFFSETTO:+1100
TZNAME:AEDT
END:DAYLIGHT
END:VTIMEZONE
BEGIN:VEVENT
DTSTART;TZID=Australia/Victoria:20200229T110000
DTEND;TZID=Australia/Victoria:20200229T223000
SUMMARY:Music in the Vines Festival 2020
DESCRIPTION:Show details available at https://events.ticketbooth.com.au/event/miv2020
LOCATION:Suffoir Winery, Brewery and Cidery
GEO:-38.041958;141.955931
END:VEVENT
END:VCALENDAR
