BEGIN:VCALENDAR
VERSION:2.0
PRODID:ShowClix//ShowClix//EN
BEGIN:VTIMEZONE
TZID:Australia/Queensland
END:VTIMEZONE
BEGIN:VEVENT
DTSTART;TZID=Australia/Queensland:20260619T120000
DTEND;TZID=Australia/Queensland:20260620T230000
SUMMARY:PDRC CHAMPIONSHIP ROUND 2
DESCRIPTION:Show details available at https://events.ticketbooth.com.au/event/pdrcround2
LOCATION:Palmyra Dragway
GEO:-21.204495;149.077643
END:VEVENT
END:VCALENDAR
