BEGIN:VCALENDAR
VERSION:2.0
PRODID:ShowClix//ShowClix//EN
BEGIN:VTIMEZONE
TZID:Australia/South
BEGIN:DAYLIGHT
DTSTART:20201003T163000
TZOFFSETFROM:+0930
TZOFFSETTO:+1030
TZNAME:ACDT
END:DAYLIGHT
BEGIN:STANDARD
DTSTART:20210403T163000
TZOFFSETFROM:+1030
TZOFFSETTO:+0930
TZNAME:ACST
END:STANDARD
END:VTIMEZONE
BEGIN:VEVENT
DTSTART;TZID=Australia/South:20200711T100000
DTEND;TZID=Australia/South:20200913T170000
SUMMARY:Phenomena: Art as experience
DESCRIPTION:Show details available at https://events.ticketbooth.com.au/event/phenomena
LOCATION:Art Gallery of South Australia
GEO:-34.920643;138.603942
END:VEVENT
END:VCALENDAR
