BEGIN:VCALENDAR
VERSION:2.0
PRODID:ShowClix//ShowClix//EN
BEGIN:VTIMEZONE
TZID:Australia/NSW
BEGIN:STANDARD
DTSTART:20180331T160000
TZOFFSETFROM:+1100
TZOFFSETTO:+1000
TZNAME:AEST
END:STANDARD
BEGIN:DAYLIGHT
DTSTART:20181006T160000
TZOFFSETFROM:+1000
TZOFFSETTO:+1100
TZNAME:AEDT
END:DAYLIGHT
END:VTIMEZONE
BEGIN:VEVENT
DTSTART;TZID=Australia/NSW:20180308T100000
DTEND;TZID=Australia/NSW:20180311T160000
SUMMARY:Rosehill Stitches & Craft
DESCRIPTION:Show details available at https://events.ticketbooth.com.au/event/rosehill-stitches-craft
LOCATION:Rosehill Gardens Racecourse
GEO:-33.823026;151.021436
END:VEVENT
END:VCALENDAR
