BEGIN:VCALENDAR
VERSION:2.0
PRODID:ShowClix//ShowClix//EN
BEGIN:VTIMEZONE
TZID:Australia/Victoria
BEGIN:DAYLIGHT
DTSTART:20201003T160000
TZOFFSETFROM:+1000
TZOFFSETTO:+1100
TZNAME:AEDT
END:DAYLIGHT
BEGIN:STANDARD
DTSTART:20210403T160000
TZOFFSETFROM:+1100
TZOFFSETTO:+1000
TZNAME:AEST
END:STANDARD
END:VTIMEZONE
BEGIN:VEVENT
DTSTART;TZID=Australia/Victoria:20200416T083000
DTEND;TZID=Australia/Victoria:20200416T163000
SUMMARY:POSTPONED: RSPCA Animal Welfare Seminar 2020
DESCRIPTION:Show details available at https://events.ticketbooth.com.au/event/rspca-animal-welfare-seminar-2020
LOCATION:Mantra Bell City
GEO:-37.745968;145.007961
END:VEVENT
END:VCALENDAR
