BEGIN:VCALENDAR
VERSION:2.0
PRODID:ShowClix//ShowClix//EN
BEGIN:VTIMEZONE
TZID:Australia/West
END:VTIMEZONE
BEGIN:VEVENT
DTSTART;TZID=Australia/West:20180324T140000
DTEND;TZID=Australia/West:20180324T230000
SUMMARY:Sets on the Beach
DESCRIPTION:Show details available at https://events.ticketbooth.com.au/event/sets-on-the-beach
LOCATION:Port Beach
GEO:-32.036987;115.744969
END:VEVENT
END:VCALENDAR
