BEGIN:VCALENDAR
VERSION:2.0
PRODID:ShowClix//ShowClix//EN
BEGIN:VTIMEZONE
TZID:Australia/ACT
BEGIN:DAYLIGHT
DTSTART:20201003T160000
TZOFFSETFROM:+1000
TZOFFSETTO:+1100
TZNAME:AEDT
END:DAYLIGHT
BEGIN:STANDARD
DTSTART:20210403T160000
TZOFFSETFROM:+1100
TZOFFSETTO:+1000
TZNAME:AEST
END:STANDARD
END:VTIMEZONE
BEGIN:VEVENT
DTSTART;TZID=Australia/ACT:20200516T103000
DTEND;TZID=Australia/ACT:20200516T133000
SUMMARY:Salami Cooking Class - 16 May 2020
DESCRIPTION:Show details available at https://events.ticketbooth.com.au/event/signorelli-gastronomia-salami-class-16-may-2020mq7
LOCATION:Signorelli Gastronomia
GEO:14.515200;44.610600
END:VEVENT
END:VCALENDAR
