BEGIN:VCALENDAR
VERSION:2.0
PRODID:ShowClix//ShowClix//EN
BEGIN:VTIMEZONE
TZID:Australia/West
END:VTIMEZONE
BEGIN:VEVENT
DTSTART;TZID=Australia/West:20270222T103000
DTEND;TZID=Australia/West:20270222T120000
SUMMARY:Step into Volunteering - February
DESCRIPTION:Show details available at https://events.ticketbooth.com.au/event/step-into-volunteering-february2027
LOCATION:Whitford Public Library
GEO:-31.797203;115.753417
END:VEVENT
END:VCALENDAR
