BEGIN:VCALENDAR
VERSION:2.0
PRODID:ShowClix//ShowClix//EN
BEGIN:VTIMEZONE
TZID:Australia/West
END:VTIMEZONE
BEGIN:VEVENT
DTSTART;TZID=Australia/West:20261126T170000
DTEND;TZID=Australia/West:20261126T183000
SUMMARY:Step into Volunteering - November
DESCRIPTION:Show details available at https://events.ticketbooth.com.au/event/step-into-volunteering-november2026
LOCATION:Whitford Public Library
GEO:-31.798268;115.748738
END:VEVENT
END:VCALENDAR
