BEGIN:VCALENDAR
VERSION:2.0
PRODID:ShowClix//ShowClix//EN
BEGIN:VTIMEZONE
TZID:Australia/Perth
END:VTIMEZONE
BEGIN:VEVENT
DTSTART;TZID=Australia/Perth:20261027T130000
DTEND;TZID=Australia/Perth:20261027T143000
SUMMARY:Step into Volunteering - October
DESCRIPTION:Show details available at https://events.ticketbooth.com.au/event/step-into-volunteering-october2026
LOCATION:Joondalup Public Library (ground floor meeting room).
GEO:-31.744052;115.773380
END:VEVENT
END:VCALENDAR
