BEGIN:VCALENDAR
VERSION:2.0
PRODID:ShowClix//ShowClix//EN
BEGIN:VTIMEZONE
TZID:Australia/West
END:VTIMEZONE
BEGIN:VEVENT
DTSTART;TZID=Australia/West:20260930T103000
DTEND;TZID=Australia/West:20260930T120000
SUMMARY:Step into Volunteering - September
DESCRIPTION:Show details available at https://events.ticketbooth.com.au/event/step-into-volunteering-september2026
LOCATION:Duncraig Public Library
GEO:46.272500;7.254790
END:VEVENT
END:VCALENDAR
