BEGIN:VCALENDAR
VERSION:2.0
PRODID:ShowClix//ShowClix//EN
BEGIN:VTIMEZONE
TZID:Australia/NSW
BEGIN:STANDARD
DTSTART:20180331T160000
TZOFFSETFROM:+1100
TZOFFSETTO:+1000
TZNAME:AEST
END:STANDARD
BEGIN:DAYLIGHT
DTSTART:20181006T160000
TZOFFSETFROM:+1000
TZOFFSETTO:+1100
TZNAME:AEDT
END:DAYLIGHT
END:VTIMEZONE
BEGIN:VEVENT
DTSTART;TZID=Australia/NSW:20180325T140000
SUMMARY:Sundae Fundaze feat. Set Mo
DESCRIPTION:Show details available at https://events.ticketbooth.com.au/event/sundae-fundaze-feat-set-mo
LOCATION:Clarendon Hotel
GEO:-32.927439;151.767289
END:VEVENT
END:VCALENDAR
