BEGIN:VCALENDAR
VERSION:2.0
PRODID:ShowClix//ShowClix//EN
BEGIN:VTIMEZONE
TZID:Australia/NSW
BEGIN:DAYLIGHT
DTSTART:20261003T160000
TZOFFSETFROM:+1000
TZOFFSETTO:+1100
TZNAME:AEDT
END:DAYLIGHT
BEGIN:STANDARD
DTSTART:20270403T160000
TZOFFSETFROM:+1100
TZOFFSETTO:+1000
TZNAME:AEST
END:STANDARD
END:VTIMEZONE
BEGIN:VEVENT
DTSTART;TZID=Australia/NSW:20260503T183000
SUMMARY:Sura Detuwo - Perth
DESCRIPTION:Show details available at https://events.ticketbooth.com.au/event/sura-detuwo-perth
LOCATION:Reading Cinema Belmont
GEO:-31.962305;115.940392
END:VEVENT
END:VCALENDAR
