BEGIN:VCALENDAR
VERSION:2.0
PRODID:ShowClix//ShowClix//EN
BEGIN:VTIMEZONE
TZID:Australia/Sydney
BEGIN:DAYLIGHT
DTSTART:20261003T160000
TZOFFSETFROM:+1000
TZOFFSETTO:+1100
TZNAME:AEDT
END:DAYLIGHT
BEGIN:STANDARD
DTSTART:20270403T160000
TZOFFSETFROM:+1100
TZOFFSETTO:+1000
TZNAME:AEST
END:STANDARD
END:VTIMEZONE
BEGIN:VEVENT
DTSTART;TZID=Australia/Sydney:20260425T200000
DTEND;TZID=Australia/Sydney:20260426T020000
SUMMARY:TAUALUGA BAR - ANZAC LONG WEEKEND, SAT 25th APRIL
DESCRIPTION:Show details available at https://events.ticketbooth.com.au/event/taualuga139
LOCATION:Golden Cherry
GEO:-33.886806;150.942576
END:VEVENT
END:VCALENDAR
