BEGIN:VCALENDAR
VERSION:2.0
PRODID:ShowClix//ShowClix//EN
BEGIN:VTIMEZONE
TZID:Australia/West
END:VTIMEZONE
BEGIN:VEVENT
DTSTART;TZID=Australia/West:20200228T220000
SUMMARY:The Boiling Point 001 ft. WYN &amp; Dead Zodiac
DESCRIPTION:Show details available at https://events.ticketbooth.com.au/event/tbp001
LOCATION:Metropolis Fremantle
GEO:-32.055930;115.748413
END:VEVENT
END:VCALENDAR
