BEGIN:VCALENDAR
VERSION:2.0
PRODID:ShowClix//ShowClix//EN
BEGIN:VTIMEZONE
TZID:Asia/Bangkok
END:VTIMEZONE
BEGIN:VEVENT
DTSTART;TZID=Asia/Bangkok:20270109T170000
DTEND;TZID=Asia/Bangkok:20270119T090000
SUMMARY:The Five Elements Qigong live immersion Thailand.
DESCRIPTION:Show details available at https://events.ticketbooth.com.au/event/the-five-elements-qigong-live-immersion-thailand-2bukn0ly
LOCATION:Ozo Chaweng Samui
GEO:47.201757;-119.181600
END:VEVENT
END:VCALENDAR
