BEGIN:VCALENDAR
VERSION:2.0
PRODID:ShowClix//ShowClix//EN
BEGIN:VTIMEZONE
TZID:Australia/NSW
BEGIN:STANDARD
DTSTART:20270403T160000
TZOFFSETFROM:+1100
TZOFFSETTO:+1000
TZNAME:AEST
END:STANDARD
BEGIN:DAYLIGHT
DTSTART:20271002T160000
TZOFFSETFROM:+1000
TZOFFSETTO:+1100
TZNAME:AEDT
END:DAYLIGHT
END:VTIMEZONE
BEGIN:VEVENT
DTSTART;TZID=Australia/NSW:20261219T130000
DTEND;TZID=Australia/NSW:20261219T230000
SUMMARY:The Salvation Army's Carols in the Domain
DESCRIPTION:Show details available at https://events.ticketbooth.com.au/event/the-salvation-army-s-carols-in-the-domain-26
LOCATION:The Domain
GEO:-33.868804;151.216226
END:VEVENT
END:VCALENDAR
